BEGIN:VCALENDAR
VERSION:2.0
PRODID:-//Ontario Z-Car Owners Association - ECPv6.15.20//NONSGML v1.0//EN
CALSCALE:GREGORIAN
METHOD:PUBLISH
X-WR-CALNAME:Ontario Z-Car Owners Association
X-ORIGINAL-URL:https://ontariozcar.com
X-WR-CALDESC:Events for Ontario Z-Car Owners Association
REFRESH-INTERVAL;VALUE=DURATION:PT1H
X-Robots-Tag:noindex
X-PUBLISHED-TTL:PT1H
BEGIN:VTIMEZONE
TZID:America/Toronto
BEGIN:DAYLIGHT
TZOFFSETFROM:-0500
TZOFFSETTO:-0400
TZNAME:EDT
DTSTART:20240310T070000
END:DAYLIGHT
BEGIN:STANDARD
TZOFFSETFROM:-0400
TZOFFSETTO:-0500
TZNAME:EST
DTSTART:20241103T060000
END:STANDARD
BEGIN:DAYLIGHT
TZOFFSETFROM:-0500
TZOFFSETTO:-0400
TZNAME:EDT
DTSTART:20250309T070000
END:DAYLIGHT
BEGIN:STANDARD
TZOFFSETFROM:-0400
TZOFFSETTO:-0500
TZNAME:EST
DTSTART:20251102T060000
END:STANDARD
BEGIN:DAYLIGHT
TZOFFSETFROM:-0500
TZOFFSETTO:-0400
TZNAME:EDT
DTSTART:20260308T070000
END:DAYLIGHT
BEGIN:STANDARD
TZOFFSETFROM:-0400
TZOFFSETTO:-0500
TZNAME:EST
DTSTART:20261101T060000
END:STANDARD
END:VTIMEZONE
BEGIN:VEVENT
DTSTART;TZID=America/Toronto:20250909T190000
DTEND;TZID=America/Toronto:20250909T200000
DTSTAMP:20260419T131536
CREATED:20250611T203920Z
LAST-MODIFIED:20250907T201721Z
UID:10000157-1757444400-1757448000@ontariozcar.com
SUMMARY:OZC Ice-cream Tuezdayz - Cambridge\, ON
DESCRIPTION:TUEZDAY IZ Z “ICE-CREAM” DAY! September 9th \nIf it’s SUNNY (NO RAIN)….bring your Z Car and meet up next TUESDAY\, SEPTEMBER 9th in the city of CAMBRIDGE…  This may be one of our last Ice Cream events of the season – TBD. \n*** SUNSHINE EVENT ONLY otherwise it will be cancelled. \n7:00PM – 8:00PM is the window to meet up with fellow Z CAR Members…    New Potential Members Welcome! \nNEXT EVENT ADDRESS:  \n304 St Andrews St Unit 8\, Cambridge\, ON N1S 1P3 \nI was told their single scoop is two scoops and their double scoop is four scoops… so double down for some great ice cream… $4.49 for a single  $6.49 for a double…(plus tax) – reasonable! \nhttps://westsidescoopsandshakes.ca/ \n \nCheck out the link for more details… OZC Executive Derek Matysik hopes to see you there…   (Have a favourite ice cream spot anywhere near you?  Interested in being a host?  Let us know. )
URL:https://ontariozcar.com/event/ozc-ice-cream-tuezdayz/
LOCATION:West Side Scoops and Shakes\, 304 St. Andrews Street\, Unit 8\, Cambridge\, Ontario\, N1S 1P3\, Canada
CATEGORIES:Car Shows,Club Events
ATTACH;FMTTYPE=image/png:https://ontariozcar.com/wp-content/uploads/2025/06/OZC-Ice-Cream-Tuesdays.png
ORGANIZER;CN="Derek Matysik":MAILTO:2016370zgunmetallic@gmail.com
END:VEVENT
END:VCALENDAR