BEGIN:VCALENDAR
VERSION:2.0
PRODID:-//Ontario Z-Car Owners Association - ECPv6.15.20//NONSGML v1.0//EN
CALSCALE:GREGORIAN
METHOD:PUBLISH
X-WR-CALNAME:Ontario Z-Car Owners Association
X-ORIGINAL-URL:https://ontariozcar.com
X-WR-CALDESC:Events for Ontario Z-Car Owners Association
REFRESH-INTERVAL;VALUE=DURATION:PT1H
X-Robots-Tag:noindex
X-PUBLISHED-TTL:PT1H
BEGIN:VTIMEZONE
TZID:America/Toronto
BEGIN:DAYLIGHT
TZOFFSETFROM:-0500
TZOFFSETTO:-0400
TZNAME:EDT
DTSTART:20230312T070000
END:DAYLIGHT
BEGIN:STANDARD
TZOFFSETFROM:-0400
TZOFFSETTO:-0500
TZNAME:EST
DTSTART:20231105T060000
END:STANDARD
BEGIN:DAYLIGHT
TZOFFSETFROM:-0500
TZOFFSETTO:-0400
TZNAME:EDT
DTSTART:20240310T070000
END:DAYLIGHT
BEGIN:STANDARD
TZOFFSETFROM:-0400
TZOFFSETTO:-0500
TZNAME:EST
DTSTART:20241103T060000
END:STANDARD
BEGIN:DAYLIGHT
TZOFFSETFROM:-0500
TZOFFSETTO:-0400
TZNAME:EDT
DTSTART:20250309T070000
END:DAYLIGHT
BEGIN:STANDARD
TZOFFSETFROM:-0400
TZOFFSETTO:-0500
TZNAME:EST
DTSTART:20251102T060000
END:STANDARD
BEGIN:DAYLIGHT
TZOFFSETFROM:-0500
TZOFFSETTO:-0400
TZNAME:EDT
DTSTART:20260308T070000
END:DAYLIGHT
BEGIN:STANDARD
TZOFFSETFROM:-0400
TZOFFSETTO:-0500
TZNAME:EST
DTSTART:20261101T060000
END:STANDARD
END:VTIMEZONE
BEGIN:VEVENT
DTSTART;TZID=America/Toronto:20250426T110000
DTEND;TZID=America/Toronto:20250426T160000
DTSTAMP:20260419T133936
CREATED:20250307T214321Z
LAST-MODIFIED:20250315T131759Z
UID:10000145-1745665200-1745683200@ontariozcar.com
SUMMARY:OZC Spring Swap Meet 2025
DESCRIPTION:OZC’s spring swap meet is back at Florida Garage Ltd. this year! \nFlorida Garage has become the go-to shop for Datsun/Nissan owners – stocking parts and offering regular maintenance in addition to complete engine and transmission rebuilds\, carburetor tuning and rebuilding and so much more.  Check out the glowing online google reviews of their work and service. \nIn the back room\, you’ll recognize the master mechanic Tony Silvaggio who has tons of experience with Datsun engines (previously of Whitehead Performance). \nReserve a display table and bring all your parts.  There’s no table reservation charge for 2025 OZC club members; the cost is $15.00 a table for non-members and interested vendors.   The deadline for reserving a table is April 24.  (Hey – if you’re not a member\, why don’t you become an annual OZC member for $45 and get your table for free! \nIf you are bringing a trailer or selling from the trunk of your car – there will be space available in the parking lot – just call ahead and let us know you’ll be coming and how much space you need. \nQuestions\, Table Reservations and Payments can be emailed to info@ontariozcar.com \nWe’re looking forward to seeing you at this typically best attended event of the year (outside of Z-Fest of course!)
URL:https://ontariozcar.com/event/ozc-spring-swap-meet-2025/
LOCATION:Florida Garage Ltd\, 3687 Dufferin Street\, Toronto\, Ontario\, M3K 1N9\, Canada
CATEGORIES:Club BBQ,Swap Meets
ATTACH;FMTTYPE=image/png:https://ontariozcar.com/wp-content/uploads/2025/03/OZC-Swap-Meet-2025.png
ORGANIZER;CN="Lou Pereira":MAILTO:loupaulo21@gmail.com
END:VEVENT
BEGIN:VEVENT
DTSTART;TZID=America/Toronto:20240427T110000
DTEND;TZID=America/Toronto:20240427T150000
DTSTAMP:20260419T133936
CREATED:20240314T013828Z
LAST-MODIFIED:20240314T014942Z
UID:10000031-1714215600-1714230000@ontariozcar.com
SUMMARY:OZC Spring Swap Meet 2024
DESCRIPTION:OZC’s spring swap meet is heading back into the heart of Toronto this spring. \nFlorida Garage has graciously offered to host this year’s event.  They’ve recently become the go-to shop for Datsun/Nissan owners – stocking parts and offering regular maintenance in addition to complete engine and transmission rebuilds\, carburetor tuning and rebuilding and so much more.  Check out the glowing online google reviews of their work and service. \nYou’ll recognize OZC Member Quentin Yarie’s brilliant orange racecar in their nearly over 10\,000 square feet – and of course the master mechanic Tony Silvaggio (previously of Whitehead Performance). \nReserve a display table and bring all your parts.  There’s no table reservation charge for 2024 OZC club members; the cost is $10.00 a table for non-members and interested vendors.   The deadline for reserving a table is April 25. \nIf you are bringing a trailer or selling from the trunk of your car – there will be space available in the parking lot – just call ahead and let us know you’ll be coming and how much space you need. \nQuestions\, Table Reservations and Payments can be emailed to info@ontariozcar.com \nWe’re looking forward to seeing you at this typically best attended event social and practical of the year (outside of Z-Fest of course!) \nPhoto by Rick Miron
URL:https://ontariozcar.com/event/ozc-spring-swap-meet-2024/
LOCATION:Florida Garage Ltd\, 3687 Dufferin Street\, Toronto\, Ontario\, M3K 1N9\, Canada
CATEGORIES:Swap Meets
ATTACH;FMTTYPE=image/png:https://ontariozcar.com/wp-content/uploads/2024/03/2024-OZC-Spring-Swap-Meet-Facebook-Post.png
ORGANIZER;CN="Eric Zondervan":MAILTO:zedfoot@rogers.com
END:VEVENT
END:VCALENDAR