BEGIN:VCALENDAR
VERSION:2.0
PRODID:-//Ontario Z-Car Owners Association - ECPv6.15.20//NONSGML v1.0//EN
CALSCALE:GREGORIAN
METHOD:PUBLISH
X-ORIGINAL-URL:https://ontariozcar.com
X-WR-CALDESC:Events for Ontario Z-Car Owners Association
REFRESH-INTERVAL;VALUE=DURATION:PT1H
X-Robots-Tag:noindex
X-PUBLISHED-TTL:PT1H
BEGIN:VTIMEZONE
TZID:America/Toronto
BEGIN:DAYLIGHT
TZOFFSETFROM:-0500
TZOFFSETTO:-0400
TZNAME:EDT
DTSTART:20240310T070000
END:DAYLIGHT
BEGIN:STANDARD
TZOFFSETFROM:-0400
TZOFFSETTO:-0500
TZNAME:EST
DTSTART:20241103T060000
END:STANDARD
BEGIN:DAYLIGHT
TZOFFSETFROM:-0500
TZOFFSETTO:-0400
TZNAME:EDT
DTSTART:20250309T070000
END:DAYLIGHT
BEGIN:STANDARD
TZOFFSETFROM:-0400
TZOFFSETTO:-0500
TZNAME:EST
DTSTART:20251102T060000
END:STANDARD
BEGIN:DAYLIGHT
TZOFFSETFROM:-0500
TZOFFSETTO:-0400
TZNAME:EDT
DTSTART:20260308T070000
END:DAYLIGHT
BEGIN:STANDARD
TZOFFSETFROM:-0400
TZOFFSETTO:-0500
TZNAME:EST
DTSTART:20261101T060000
END:STANDARD
END:VTIMEZONE
BEGIN:VEVENT
DTSTART;TZID=America/Toronto:20250409T193000
DTEND;TZID=America/Toronto:20250409T210000
DTSTAMP:20260419T155032
CREATED:20241227T201954Z
LAST-MODIFIED:20250406T131112Z
UID:10000135-1744227000-1744232400@ontariozcar.com
SUMMARY:OZC April 2025 Western Member Meetup
DESCRIPTION:Join us at our monthly meetup to hear the latest club news and event updates\, but most importantly to catch up with old and new Z friends.  Meet up with us on the second Wednesday of each month\, at a new location to change it up!  New potential members are always welcome to come and see what we’re all about.  Just a fun bunch of car enthusiasts. \nWe start the meeting at 7:30 PM but come earlier to join us for a bite to eat at 6:00 PM… always good food & good times!   \nWEDNESDAY NIGHT SPECIAL BELOW!!! \nThe location this month is at EAST SIDE MARIOS!  355 Hespeler Rd\, Cambridge\, ON N1R 6B3 \n 
URL:https://ontariozcar.com/event/ozc-april-2025-western-member-meetup/
LOCATION:East Side Marios\, 355 Hespeler Road\, Cambridge\, Ontario\, N1R 6B3\, Canada
CATEGORIES:Club Meetings
ATTACH;FMTTYPE=image/jpeg:https://ontariozcar.com/wp-content/uploads/2024/12/Western.jpg
ORGANIZER;CN="Derek Matysik":MAILTO:2016370zgunmetallic@gmail.com
END:VEVENT
END:VCALENDAR