BEGIN:VCALENDAR
VERSION:2.0
PRODID:-//Ontario Z-Car Owners Association - ECPv6.15.20//NONSGML v1.0//EN
CALSCALE:GREGORIAN
METHOD:PUBLISH
X-ORIGINAL-URL:https://ontariozcar.com
X-WR-CALDESC:Events for Ontario Z-Car Owners Association
REFRESH-INTERVAL;VALUE=DURATION:PT1H
X-Robots-Tag:noindex
X-PUBLISHED-TTL:PT1H
BEGIN:VTIMEZONE
TZID:America/Toronto
BEGIN:DAYLIGHT
TZOFFSETFROM:-0500
TZOFFSETTO:-0400
TZNAME:EDT
DTSTART:20240310T070000
END:DAYLIGHT
BEGIN:STANDARD
TZOFFSETFROM:-0400
TZOFFSETTO:-0500
TZNAME:EST
DTSTART:20241103T060000
END:STANDARD
BEGIN:DAYLIGHT
TZOFFSETFROM:-0500
TZOFFSETTO:-0400
TZNAME:EDT
DTSTART:20250309T070000
END:DAYLIGHT
BEGIN:STANDARD
TZOFFSETFROM:-0400
TZOFFSETTO:-0500
TZNAME:EST
DTSTART:20251102T060000
END:STANDARD
BEGIN:DAYLIGHT
TZOFFSETFROM:-0500
TZOFFSETTO:-0400
TZNAME:EDT
DTSTART:20260308T070000
END:DAYLIGHT
BEGIN:STANDARD
TZOFFSETFROM:-0400
TZOFFSETTO:-0500
TZNAME:EST
DTSTART:20261101T060000
END:STANDARD
END:VTIMEZONE
BEGIN:VEVENT
DTSTART;TZID=America/Toronto:20250917T180000
DTEND;TZID=America/Toronto:20250917T210000
DTSTAMP:20260419T150846
CREATED:20250621T194510Z
LAST-MODIFIED:20250905T023951Z
UID:10000159-1758132000-1758142800@ontariozcar.com
SUMMARY:OZC September 2025 Western Member Meetup
DESCRIPTION:SPECIAL WESTERN MEETING\, WEDNESDAY SEPTEMBER 17 & PRE-DINNER MINI-CRUISE  *** 20% OFF FOOD SPECIAL! \nJoin us at our monthly meetup to hear the latest club news and event updates\, but most importantly to catch up with old and new Z friends.  Meet up with us on the THIRD WEDNESDAY THIS SEPTEMBER\, at a special new location to change it up!  New potential members are always welcome to come and see what we’re all about.  Just a fun bunch of car enthusiasts. \nFor those that are interested we will be doing a small MINI-CRUISE before the next meeting (30 MINS)… We will all MEET-UP at the FORWARD BAPTIST CHURCH at 55 Franklin Blvd\, Cambridge\, ON N1R 5S2 (FRANKLIN BLVD & MYERS RD).  We will cruise up together for some fun drive time! \nLook for this car below in the large parking lot…  ARRIVE BETWEEN 5:15PM – 5:30PM (latest) to chat and join up with fellow Z enthusiasts.  Don’t be late… we won’t wait! \n \nDINNER & MEETING AT “ABERFOYLE MILL RESTAURANT” located at 80 Brock Rd S\, Puslinch\, ON N0B 2J0.  We have a reservation with a guestimate on attendees – if you can please email Derek Matysik as the coordinator if you are planning to attend at least 1 DAY PRIOR so he can ensure enough space for everyone.  They will reserve a bunch of parking spots to ensure safe parking for your rides.  This restaurant should be a little quieter as we have a private room reservation for our meeting as we look to socialize with existing & new members. \n*** OUR CAR CLUB SPECIAL IS A 20% OFF DEAL ON ALL FOOD ITEMS FOR Z MEMBERS….  this offer will be extended to new car club members… It pays longterm to be a member with all the dinner specials!  We need a good member turnout please as I continue to negotiate these special deals for us… \nWEBSITE LINK: \nhttps://www.aberfoylemill.com/ \nRESTAURANT INFO: The delightful interior of the Aberfoyle Mill is a constant reminder of its history. The Mill was built in 1859 by a Scottish immigrant named George McLean. The village of Aberfoyle was named after a small village below the Trossachs mountains\, about 40 km north of Glasgow\, by another Scottsman named George MacFarlane. The Mill Originally functioned as a grist mill\, powered by the pond situated at the back of the building. In 1867\, the Mill won a gold medal\, for its oatmeal at the World’s Fair in Paris. The Mill functioned until the late 1920’s.  In 1960 the Mill was purchased by the Owens family and after about 6 years of restoration\, it was converted into one of the most unique restaurants in Canada.  Through a vestibule you enter the main dining area where the decor is made up of authentic antiques\, one of the  largest personal collections of Canadiana. \nMEETING to include discussions on all things NISSAN / DATSUN… open to suggestions on all car topics always!  Hoping to do a NISSAN / DATSUN TRIVIA CONTEST… \nWe will park all cars together in one area again… take lots of pictures for ZEDLINE MAGAZINE… if you get to the restaurant early\, just tell them you’re with the ONTARIO Z CAR CLUB… or a potential new member! \nWe start the actual meeting at 7:00PM (ish) but come earlier to join us for a bite to eat beforehand around 6:00PM (ish)… always good food & good times! \nFor those who’d like more information\, please reach out to Derek Matysik directly as the Western Chapter VP.
URL:https://ontariozcar.com/event/ozc-september-2025-western-member-meetup/
LOCATION:Aberfoyle Mill Restaurant\, 80 Brock Road South\, Puslinch\, Ontario\, N0B 2J0\, Canada
CATEGORIES:Club Meetings
ATTACH;FMTTYPE=image/jpeg:https://ontariozcar.com/wp-content/uploads/2024/12/Western.jpg
ORGANIZER;CN="Derek Matysik":MAILTO:2016370zgunmetallic@gmail.com
END:VEVENT
END:VCALENDAR