BEGIN:VCALENDAR
VERSION:2.0
PRODID:-//Ontario Z-Car Owners Association - ECPv6.15.20//NONSGML v1.0//EN
CALSCALE:GREGORIAN
METHOD:PUBLISH
X-WR-CALNAME:Ontario Z-Car Owners Association
X-ORIGINAL-URL:https://ontariozcar.com
X-WR-CALDESC:Events for Ontario Z-Car Owners Association
REFRESH-INTERVAL;VALUE=DURATION:PT1H
X-Robots-Tag:noindex
X-PUBLISHED-TTL:PT1H
BEGIN:VTIMEZONE
TZID:America/Toronto
BEGIN:DAYLIGHT
TZOFFSETFROM:-0500
TZOFFSETTO:-0400
TZNAME:EDT
DTSTART:20250309T070000
END:DAYLIGHT
BEGIN:STANDARD
TZOFFSETFROM:-0400
TZOFFSETTO:-0500
TZNAME:EST
DTSTART:20251102T060000
END:STANDARD
BEGIN:DAYLIGHT
TZOFFSETFROM:-0500
TZOFFSETTO:-0400
TZNAME:EDT
DTSTART:20260308T070000
END:DAYLIGHT
BEGIN:STANDARD
TZOFFSETFROM:-0400
TZOFFSETTO:-0500
TZNAME:EST
DTSTART:20261101T060000
END:STANDARD
BEGIN:DAYLIGHT
TZOFFSETFROM:-0500
TZOFFSETTO:-0400
TZNAME:EDT
DTSTART:20270314T070000
END:DAYLIGHT
BEGIN:STANDARD
TZOFFSETFROM:-0400
TZOFFSETTO:-0500
TZNAME:EST
DTSTART:20271107T060000
END:STANDARD
END:VTIMEZONE
BEGIN:VEVENT
DTSTART;TZID=America/Toronto:20260304T183000
DTEND;TZID=America/Toronto:20260304T210000
DTSTAMP:20260419T160903
CREATED:20260125T222506Z
LAST-MODIFIED:20260125T222836Z
UID:10000194-1772649000-1772658000@ontariozcar.com
SUMMARY:OZC March 2026 Eastern Member Meetup
DESCRIPTION:Join us at our monthly meetup to hear the latest club news\, events updates\, both past and upcoming ones and catch up with old and new friends. \nEASTERN MEETINGS \nMeet up with us on the first Wednesday of each month\, at a new location each month. We start the meeting at 7:30 PM but come earlier to join us for a bite to eat at 6:00 PM. \nLocation will be updated on this site prior to the meeting.
URL:https://ontariozcar.com/event/ozc-march-2026-eastern-member-meetup/
LOCATION:Ontario
CATEGORIES:Club Meetings
ATTACH;FMTTYPE=image/jpeg:https://ontariozcar.com/wp-content/uploads/2026/01/202601-Eastern-Meeting-02.jpg
ORGANIZER;CN="Lou Pereira":MAILTO:loupaulo21@gmail.com
END:VEVENT
BEGIN:VEVENT
DTSTART;TZID=America/Toronto:20260311T183000
DTEND;TZID=America/Toronto:20260311T210000
DTSTAMP:20260419T160903
CREATED:20260119T011010Z
LAST-MODIFIED:20260308T174743Z
UID:10000183-1773253800-1773262800@ontariozcar.com
SUMMARY:OZC March 2026 Western Member Meetup
DESCRIPTION:Join us at our monthly meetup to hear the latest club news and event updates\, but most importantly to catch up with old and new Z friends.  Meet up with us on the second Wednesday of each month\, at a new location each time to change it up!  New potential members are always welcome to come and see what we’re all about.  Just a fun bunch of car enthusiasts. \nWESTERN MEETING\, WEDNESDAY MARCH 11 \nJoin us at our monthly meetup to hear the latest club news and event updates\, but most importantly to catch up with old and new Z friends.  Meet up with us on the second Wednesday of each month\, at a new location to change it up!  New potential members are always welcome to come and see what we’re all about.  Just a fun bunch of car enthusiasts. \nDINNER & MEETING AT MONTANA’S BBQ & BAR in CAMBRIDGE at 40 Pinebush Rd\, Cambridge\, ON N1R 8K5.   \nWe have a reservation with a guestimate on attendees – if you can please email Derek Matysik as the coordinator if you are planning to attend at least 1 DAY PRIOR so he can ensure enough space for everyone.  There is lots of parking in the lot to ensure safe parking for your vehicles.  I’ve had needed conversations with management and this restaurant should be good for our meeting as we look to socialize with existing & new members. \n*** THEY HAVE MANY SPECIALS AS WELL THEY CAN PROVIDE… SEE BELOW MENU LINK AS WELL.  I have negotiated some extra items as well for all participants… like what we did before with some sharable mini-donut deserts as complimentary… member bonus! \nhttps://www.montanas.ca/en/locations/on/cambridge/40-pinebush-rd \nMEETING to include discussions on all things NISSAN / DATSUN… open to suggestions on all car topics always!  Hoping to do a NISSAN / DATSUN TRIVIA CONTEST… \nLOTS OF PARKING…. \nWe start the conversational meeting at 7:00PM (ish) but come earlier to join us for a bite to eat beforehand around 6:00PM (ish)… always good food & good times! \nFor those who’d like more information\, please reach out to Derek Matysik directly as the Western Chapter VP.
URL:https://ontariozcar.com/event/ozc-march-2026-western-member-meetup/
LOCATION:Montana’s Cambridge\, 40 Pinebush Road\, Cambridge\, Ontario\, N1R 85K\, Canada
CATEGORIES:Club Meetings
ATTACH;FMTTYPE=image/jpeg:https://ontariozcar.com/wp-content/uploads/2024/12/Western.jpg
ORGANIZER;CN="Derek Matysik":MAILTO:2016370zgunmetallic@gmail.com
END:VEVENT
BEGIN:VEVENT
DTSTART;TZID=America/Toronto:20260314T090000
DTEND;TZID=America/Toronto:20260314T170000
DTSTAMP:20260419T160903
CREATED:20260119T005549Z
LAST-MODIFIED:20260119T005549Z
UID:10000181-1773478800-1773507600@ontariozcar.com
SUMMARY:OZC Meetup for Motorama 2026
DESCRIPTION:Motorama – what a great way to kick off a car enthusiast’s season! \nOZC Member Grant Iwasa will be hosting any OZC friends that want to meet up for Motorama on Saturday March 14.   Please reach out to Grant directly at grant_iwasa@yahoo.ca to let him know you’ll join in.  (Meetup will be at Tim Horton’s\, 6767 Airport Road between 9:00am and 9:30am). \n\nInformation for the show can be found here: https://www.motoramashow.com/faq/\nTickets can be purchased in advance: https://unitytickets.com/se/MOTORAMA2026/TICKET/en-CA/start/Process.aspx\nInterested in showcasing your car??? – registration can be found here: https://www.motoramashow.com/vehicle-registration/\n\n 
URL:https://ontariozcar.com/event/ozc-meetup-for-motorama-2026/
LOCATION:Tim Hortons – International Centre\, 6767 Airport Rd\, Mississauga\, Ontario\, L4V 1E6\, Canada
CATEGORIES:Car Shows
ATTACH;FMTTYPE=image/jpeg:https://ontariozcar.com/wp-content/uploads/2026/01/motorama.jpg
ORGANIZER;CN="Grant Iwasa":MAILTO:grant_iwasa@yahoo.ca
END:VEVENT
END:VCALENDAR