BEGIN:VCALENDAR
VERSION:2.0
PRODID:-//Ontario Z-Car Owners Association - ECPv6.15.20//NONSGML v1.0//EN
CALSCALE:GREGORIAN
METHOD:PUBLISH
X-ORIGINAL-URL:https://ontariozcar.com
X-WR-CALDESC:Events for Ontario Z-Car Owners Association
REFRESH-INTERVAL;VALUE=DURATION:PT1H
X-Robots-Tag:noindex
X-PUBLISHED-TTL:PT1H
BEGIN:VTIMEZONE
TZID:America/Toronto
BEGIN:DAYLIGHT
TZOFFSETFROM:-0500
TZOFFSETTO:-0400
TZNAME:EDT
DTSTART:20250309T070000
END:DAYLIGHT
BEGIN:STANDARD
TZOFFSETFROM:-0400
TZOFFSETTO:-0500
TZNAME:EST
DTSTART:20251102T060000
END:STANDARD
BEGIN:DAYLIGHT
TZOFFSETFROM:-0500
TZOFFSETTO:-0400
TZNAME:EDT
DTSTART:20260308T070000
END:DAYLIGHT
BEGIN:STANDARD
TZOFFSETFROM:-0400
TZOFFSETTO:-0500
TZNAME:EST
DTSTART:20261101T060000
END:STANDARD
BEGIN:DAYLIGHT
TZOFFSETFROM:-0500
TZOFFSETTO:-0400
TZNAME:EDT
DTSTART:20270314T070000
END:DAYLIGHT
BEGIN:STANDARD
TZOFFSETFROM:-0400
TZOFFSETTO:-0500
TZNAME:EST
DTSTART:20271107T060000
END:STANDARD
END:VTIMEZONE
BEGIN:VEVENT
DTSTART;TZID=America/Toronto:20260408T183000
DTEND;TZID=America/Toronto:20260408T210000
DTSTAMP:20260419T195950
CREATED:20260119T011044Z
LAST-MODIFIED:20260327T203709Z
UID:10000184-1775673000-1775682000@ontariozcar.com
SUMMARY:OZC April 2026 Western Member Meetup
DESCRIPTION:WESTERN MEETING\, WEDNESDAY APRIL 8th – ANCASTER AREA \nJoin us at our monthly meetup to hear the latest club news and event updates\, but most importantly to catch up with old and new Z friends.  Meet up with us on the second Wednesday of each month\, at a different location to change it up!  New potential members are always welcome to come and see what we’re all about.  Just a fun bunch of car enthusiasts. \nDINNER & MEETING AT: \n \n \n534 Garner Road East Ancaster\, ON\, L9G 3K9 \nWelcome to Southcote 53\, Ancaster’s go-to spot for mouth-watering\, casual dining! Our menu offers a diverse selection of tempting dishes that strike the perfect balance between comforting classics and elevated favorites. Every dish is crafted with care\, using fresh ingredients to create memorable meals you’ll love in a laid-back atmosphere. \nWhether you’re gathering with friends or enjoying a family meal\, our spacious indoor space\, complete with a banquet room and private dining area\, accommodates your needs. Step outside and unwind on our gorgeous sprawling\, heated patio. Quench your thirst with our selection of wines\, beers\, and signature cocktails\, as our friendly staff helps you find the perfect pairing. We can’t wait to welcome you! \n1/2 Price Wings Wednesday\n \nChoice of Classic or Breaded Wings 9.50 \nWe have a registration with a guestimate on attendees – if you can please email Derek Matysik as the coordinator if you are planning to attend at least 1 DAY PRIOR so he can ensure enough space for everyone.  We also have a private area off to the side for 20 people so we can have good and productive car club conversations. \nThey have reserved 18 parking spots if you do bring your SPORTS CAR on the paved front section… Hopefully the weather is nice\, insurance is on the vehicles and gas prices are down!  Otherwise just bring your regular drivers and we will see you there… I know it’s possibly too early in the season yet to have rides out. \nMEETING to include discussions on all things NISSAN / DATSUN… open to suggestions on all car topics always!  Hoping to do a NISSAN / DATSUN TRIVIA CONTEST… \nIf you get to the restaurant early\, just tell them you’re with the ONTARIO Z CAR CLUB… or a potential new member! \nWe start the meeting at 7:00 PM latest but come earlier to join us for a bite to eat at 6:00 PM (approximately)… always good food & good times! \nFor those who’d like more information\, please reach out to Derek Matysik directly as the Western Chapter VP.
URL:https://ontariozcar.com/event/ozc-april-2026-western-member-meetup/
LOCATION:Southcote 53\, 534 Glarner Road East\, Ancaster\, Ontario\, L9G 3K9\, Canada
CATEGORIES:Club Meetings
ATTACH;FMTTYPE=image/jpeg:https://ontariozcar.com/wp-content/uploads/2024/12/Western.jpg
ORGANIZER;CN="Derek Matysik":MAILTO:2016370zgunmetallic@gmail.com
END:VEVENT
BEGIN:VEVENT
DTSTART;TZID=America/Toronto:20260505T190000
DTEND;TZID=America/Toronto:20260505T200000
DTSTAMP:20260419T195950
CREATED:20260410T002947Z
LAST-MODIFIED:20260410T002947Z
UID:10000204-1778007600-1778011200@ontariozcar.com
SUMMARY:OZC Ice-cream Tuezdayz -Paris\, ON
DESCRIPTION:TUEZDAY\, MAY 5th IZ Z “ICE-CREAM” DAY! \nIf it’s SUNNY (NO RAIN)….bring your Z Car and meet up next TUESDAY\, MAY 5th in the small town of PARIS (Ontario)… DROP-IN / POP-UP EVENT every-other TUESDAY through the summer weather permitting at a different ICE CREAM location!!!  Details to follow for each meet-up…. (RAIN DATES TBD) \n7:00PM – 8:00PM is the window to meet up with fellow Z CAR Members…    New Potential Members Welcome! \n6:30pm – 6:40PM if you want to meetup in Cambridge for a MINI-CRUISE (20 MINS) to get there together:   We will all meet-up at the Forward Baptist Church at 55 Franklin Blvd & Myers Rd.  Arrive by 6:40PM (latest) to chat and join up with fellow Z enthusiasts and drive together to the Ice Cream event at Paris Twisted Treats.    \nNEXT EVENT LOCATION: Paris Twisted Treats\, 98 Scott Ave\, Paris\, ON N3L 3K4 \n  \nCheck out the link for more details… OZC Executive Derek Matysik will be your host this week.    (Have a favourite ice cream spot anywhere near you?  Interested in being a host?  We’d love to hear from you – info@ontariozcar.com) \nhttps://www.facebook.com/ParisTwistedTreats/
URL:https://ontariozcar.com/event/ozc-ice-cream-tuezdayz-20260505/
LOCATION:Paris Twisted Treats\, 98 Scott Avenue\, Paris\, Ontario\, N3L 3K4\, Canada
CATEGORIES:Car Shows,Club Events
ATTACH;FMTTYPE=image/png:https://ontariozcar.com/wp-content/uploads/2025/06/OZC-Ice-Cream-Tuesdays.png
ORGANIZER;CN="Derek Matysik":MAILTO:2016370zgunmetallic@gmail.com
END:VEVENT
BEGIN:VEVENT
DTSTART;TZID=America/Toronto:20260506T183000
DTEND;TZID=America/Toronto:20260506T210000
DTSTAMP:20260419T195950
CREATED:20260125T222707Z
LAST-MODIFIED:20260125T222707Z
UID:10000196-1778092200-1778101200@ontariozcar.com
SUMMARY:OZC May 2026 Eastern Member Meetup
DESCRIPTION:Join us at our monthly meetup to hear the latest club news\, events updates\, both past and upcoming ones and catch up with old and new friends. \nEASTERN MEETINGS \nMeet up with us on the first Wednesday of each month\, at a new location each month. We start the meeting at 7:30 PM but come earlier to join us for a bite to eat at 6:00 PM. \nLocation will be updated on this site prior to the meeting.
URL:https://ontariozcar.com/event/ozc-may-2026-eastern-member-meetup/
LOCATION:Ontario
CATEGORIES:Club Meetings
ATTACH;FMTTYPE=image/jpeg:https://ontariozcar.com/wp-content/uploads/2026/01/202601-Eastern-Meeting-02.jpg
ORGANIZER;CN="Lou Pereira":MAILTO:loupaulo21@gmail.com
END:VEVENT
BEGIN:VEVENT
DTSTART;TZID=America/Toronto:20260513T183000
DTEND;TZID=America/Toronto:20260513T210000
DTSTAMP:20260419T195950
CREATED:20260119T011119Z
LAST-MODIFIED:20260410T003701Z
UID:10000185-1778697000-1778706000@ontariozcar.com
SUMMARY:OZC May 2026 Western Member Meetup
DESCRIPTION:WESTERN MEETING\, WEDNESDAY MAY 13 & PRE-DINNER MINI-CRUISE \nJoin us at our monthly meetup to hear the latest club news and event updates\, but most importantly to catch up with old and new Z friends.  Meet up with us on the second Wednesday of each month\, at a new location to change it up!  New potential members are always welcome to come and see what we’re all about.  Just a fun bunch of car enthusiasts. \nFor those that are interested we will be doing a small MINI-CRUISE before the next meeting (35 MINS)… We will start at the FORWARD BAPTIST CHURCH at 55 Franklin Blvd\, Cambridge\, ON N1R 5S2 (FRANKLIN BLVD & MYERS RD).  We will cruise up beside the river and by the regional airport… some fun drive time!  ARRIVE BETWEEN 5:00PM – 5:15PM (latest) to chat and join up with fellow Z enthusiasts.  Don’t be late… we won’t wait! \nWe will also have another CRUISE PIT-STOP MEETING POINT along the way at the PETRO CANADA at 239 Fountain St S\, Cambridge\, ON N3H 1J2 for people to join-in as well.  (PIT-STOP ARRIVAL ESTIMATED at 5:30PM APPROX) \nLook for this car below for this cruise… \n \nDINNER & MEETING AT THE HARVEST MOON RESTAURANT in ST JACOBS at 5 Parkside Dr\, St. Jacobs\, ON N0B 2N0.  We have a reservation with a guestimate on attendees – if you can please email Derek Matysik as the coordinator if you are planning to attend at least 1 DAY PRIOR so he can ensure enough space for everyone.  They will reserve a bunch of parking spots to ensure safe parking for your rides.  This restaurant should be a little quieter with the back room reservation for our meeting as we look to socialize with existing & new members. \n*** THEY HAVE MANY SPECIALS AS WELL THEY CAN PROVIDE… SEE BELOW MENU LINK AS WELL.  https://www.harvestmoonfamilyrestaurant.ca/lunch-dinner \n \n  \nRESTAURANT INFO: Harvest Moon is well-known in the community for its warm hospitality and inviting homestyle charm. We take pride in serving generous portions of hearty\, home-cooked meals at affordable prices\, making us a beloved destination for locals seeking comfort and quality in every dish. \nhttps://www.harvestmoonfamilyrestaurant.ca/ \nMEETING to include discussions on all things NISSAN / DATSUN… open to suggestions on all car topics always!  Hoping to do a NISSAN / DATSUN TRIVIA CONTEST… \nWe also hope to park all cars together in one area again… take lots of pictures for ZEDLINE MAGAZINE… if you get to the restaurant early\, just tell them you’re with the ONTARIO Z CAR CLUB… or a potential new member! \nRICK SCOTT will also be joining to talk about AMSOIL… he always has some exciting news to share! \nWe start the car conversations at 7:00PM (ish) but come earlier to join us for a bite to eat beforehand around 6:00PM (ish)… always good food & good times! \nFor those who’d like more information\, please reach out to Derek Matysik directly as the Western Chapter VP. \n 
URL:https://ontariozcar.com/event/ozc-may-2026-western-member-meetup/
LOCATION:Harvest Moon Family Restaurant\, 5 Parkside Drive\, St. Jacobs\, Ontario\, N0B 2N0\, Canada
CATEGORIES:Club Meetings
ATTACH;FMTTYPE=image/jpeg:https://ontariozcar.com/wp-content/uploads/2024/12/Western.jpg
ORGANIZER;CN="Derek Matysik":MAILTO:2016370zgunmetallic@gmail.com
END:VEVENT
BEGIN:VEVENT
DTSTART;TZID=America/Toronto:20260603T183000
DTEND;TZID=America/Toronto:20260603T210000
DTSTAMP:20260419T195950
CREATED:20260125T222931Z
LAST-MODIFIED:20260125T222931Z
UID:10000197-1780511400-1780520400@ontariozcar.com
SUMMARY:OZC June 2026 Eastern Member Meetup
DESCRIPTION:Join us at our monthly meetup to hear the latest club news\, events updates\, both past and upcoming ones and catch up with old and new friends. \nEASTERN MEETINGS \nMeet up with us on the first Wednesday of each month\, at a new location each month. We start the meeting at 7:30 PM but come earlier to join us for a bite to eat at 6:00 PM. \nLocation will be updated on this site prior to the meeting.
URL:https://ontariozcar.com/event/ozc-june-2026-eastern-member-meetup/
LOCATION:Ontario
CATEGORIES:Club Meetings
ATTACH;FMTTYPE=image/jpeg:https://ontariozcar.com/wp-content/uploads/2026/01/202601-Eastern-Meeting-02.jpg
ORGANIZER;CN="Lou Pereira":MAILTO:loupaulo21@gmail.com
END:VEVENT
BEGIN:VEVENT
DTSTART;TZID=America/Toronto:20260610T183000
DTEND;TZID=America/Toronto:20260610T210000
DTSTAMP:20260419T195950
CREATED:20260119T011140Z
LAST-MODIFIED:20260119T011140Z
UID:10000186-1781116200-1781125200@ontariozcar.com
SUMMARY:OZC June 2026 Western Member Meetup
DESCRIPTION:Join us at our monthly meetup to hear the latest club news and event updates\, but most importantly to catch up with old and new Z friends.  Meet up with us on the second Wednesday of each month\, at a new location each time to change it up!  New potential members are always welcome to come and see what we’re all about.  Just a fun bunch of car enthusiasts. \nLocation to be announced close to the date…
URL:https://ontariozcar.com/event/ozc-june-2026-western-member-meetup/
LOCATION:Ontario
CATEGORIES:Club Meetings
ATTACH;FMTTYPE=image/jpeg:https://ontariozcar.com/wp-content/uploads/2024/12/Western.jpg
ORGANIZER;CN="Derek Matysik":MAILTO:2016370zgunmetallic@gmail.com
END:VEVENT
BEGIN:VEVENT
DTSTART;TZID=America/Toronto:20260701T180000
DTEND;TZID=America/Toronto:20260701T210000
DTSTAMP:20260419T195950
CREATED:20260125T223044Z
LAST-MODIFIED:20260125T223044Z
UID:10000198-1782928800-1782939600@ontariozcar.com
SUMMARY:OZC July 2026 Eastern Member Meetup
DESCRIPTION:Join us at our monthly meetup to hear the latest club news\, events updates\, both past and upcoming ones and catch up with old and new friends. \nEASTERN MEETINGS \nMeet up with us on the first Wednesday of each month\, at a new location each month. We start the meeting at 7:30 PM but come earlier to join us for a bite to eat at 6:00 PM. \nLocation will be updated on this site prior to the meeting.
URL:https://ontariozcar.com/event/ozc-july-2026-eastern-member-meetup/
LOCATION:Ontario
CATEGORIES:Club Meetings
ATTACH;FMTTYPE=image/jpeg:https://ontariozcar.com/wp-content/uploads/2026/01/202601-Eastern-Meeting-02.jpg
ORGANIZER;CN="Lou Pereira":MAILTO:loupaulo21@gmail.com
END:VEVENT
BEGIN:VEVENT
DTSTART;TZID=America/Toronto:20260708T183000
DTEND;TZID=America/Toronto:20260708T210000
DTSTAMP:20260419T195950
CREATED:20260119T011202Z
LAST-MODIFIED:20260119T011202Z
UID:10000187-1783535400-1783544400@ontariozcar.com
SUMMARY:OZC July 2026 Western Member Meetup
DESCRIPTION:Join us at our monthly meetup to hear the latest club news and event updates\, but most importantly to catch up with old and new Z friends.  Meet up with us on the second Wednesday of each month\, at a new location each time to change it up!  New potential members are always welcome to come and see what we’re all about.  Just a fun bunch of car enthusiasts. \nLocation to be announced close to the date…
URL:https://ontariozcar.com/event/ozc-july-2026-western-member-meetup/
LOCATION:Ontario
CATEGORIES:Club Meetings
ATTACH;FMTTYPE=image/jpeg:https://ontariozcar.com/wp-content/uploads/2024/12/Western.jpg
ORGANIZER;CN="Derek Matysik":MAILTO:2016370zgunmetallic@gmail.com
END:VEVENT
BEGIN:VEVENT
DTSTART;TZID=America/Toronto:20260805T183000
DTEND;TZID=America/Toronto:20260805T210000
DTSTAMP:20260419T195950
CREATED:20260125T223226Z
LAST-MODIFIED:20260125T223958Z
UID:10000199-1785954600-1785963600@ontariozcar.com
SUMMARY:OZC August 2026 Eastern Member Meetup
DESCRIPTION:Join us at our monthly meetup to hear the latest club news\, events updates\, both past and upcoming ones and catch up with old and new friends. \nEASTERN MEETINGS \nMeet up with us on the first Wednesday of each month\, at a new location each month. We start the meeting at 7:30 PM but come earlier to join us for a bite to eat at 6:00 PM. \nLocation will be updated on this site prior to the meeting.
URL:https://ontariozcar.com/event/ozc-august-2026-eastern-member-meetup/
LOCATION:Ontario
CATEGORIES:Club Meetings
ATTACH;FMTTYPE=image/jpeg:https://ontariozcar.com/wp-content/uploads/2026/01/202601-Eastern-Meeting-02.jpg
ORGANIZER;CN="Lou Pereira":MAILTO:loupaulo21@gmail.com
END:VEVENT
BEGIN:VEVENT
DTSTART;TZID=America/Toronto:20260812T183000
DTEND;TZID=America/Toronto:20260812T210000
DTSTAMP:20260419T195950
CREATED:20260119T011226Z
LAST-MODIFIED:20260119T011226Z
UID:10000188-1786559400-1786568400@ontariozcar.com
SUMMARY:OZC August 2026 Western Member Meetup
DESCRIPTION:Join us at our monthly meetup to hear the latest club news and event updates\, but most importantly to catch up with old and new Z friends.  Meet up with us on the second Wednesday of each month\, at a new location each time to change it up!  New potential members are always welcome to come and see what we’re all about.  Just a fun bunch of car enthusiasts. \nLocation to be announced close to the date…
URL:https://ontariozcar.com/event/ozc-august-2026-western-member-meetup/
LOCATION:Ontario
CATEGORIES:Club Meetings
ATTACH;FMTTYPE=image/jpeg:https://ontariozcar.com/wp-content/uploads/2024/12/Western.jpg
ORGANIZER;CN="Derek Matysik":MAILTO:2016370zgunmetallic@gmail.com
END:VEVENT
BEGIN:VEVENT
DTSTART;TZID=America/Toronto:20260902T183000
DTEND;TZID=America/Toronto:20260902T210000
DTSTAMP:20260419T195950
CREATED:20260125T223328Z
LAST-MODIFIED:20260125T223328Z
UID:10000200-1788373800-1788382800@ontariozcar.com
SUMMARY:OZC September 2026 Eastern Member Meetup
DESCRIPTION:Join us at our monthly meetup to hear the latest club news\, events updates\, both past and upcoming ones and catch up with old and new friends. \nEASTERN MEETINGS \nMeet up with us on the first Wednesday of each month\, at a new location each month. We start the meeting at 7:30 PM but come earlier to join us for a bite to eat at 6:00 PM. \nLocation will be updated on this site prior to the meeting.
URL:https://ontariozcar.com/event/ozc-september-2026-eastern-member-meetup/
LOCATION:Ontario
CATEGORIES:Club Meetings
ATTACH;FMTTYPE=image/jpeg:https://ontariozcar.com/wp-content/uploads/2026/01/202601-Eastern-Meeting-02.jpg
ORGANIZER;CN="Lou Pereira":MAILTO:loupaulo21@gmail.com
END:VEVENT
BEGIN:VEVENT
DTSTART;TZID=America/Toronto:20260909T183000
DTEND;TZID=America/Toronto:20260909T210000
DTSTAMP:20260419T195950
CREATED:20260119T011250Z
LAST-MODIFIED:20260119T011250Z
UID:10000189-1788978600-1788987600@ontariozcar.com
SUMMARY:OZC September 2026 Western Member Meetup
DESCRIPTION:Join us at our monthly meetup to hear the latest club news and event updates\, but most importantly to catch up with old and new Z friends.  Meet up with us on the second Wednesday of each month\, at a new location each time to change it up!  New potential members are always welcome to come and see what we’re all about.  Just a fun bunch of car enthusiasts. \nLocation to be announced close to the date…
URL:https://ontariozcar.com/event/ozc-september-2026-western-member-meetup/
LOCATION:Ontario
CATEGORIES:Club Meetings
ATTACH;FMTTYPE=image/jpeg:https://ontariozcar.com/wp-content/uploads/2024/12/Western.jpg
ORGANIZER;CN="Derek Matysik":MAILTO:2016370zgunmetallic@gmail.com
END:VEVENT
BEGIN:VEVENT
DTSTART;TZID=America/Toronto:20261007T183000
DTEND;TZID=America/Toronto:20261007T210000
DTSTAMP:20260419T195950
CREATED:20260125T223503Z
LAST-MODIFIED:20260125T223503Z
UID:10000201-1791397800-1791406800@ontariozcar.com
SUMMARY:OZC October 2026 Eastern Member Meetup
DESCRIPTION:Join us at our monthly meetup to hear the latest club news\, events updates\, both past and upcoming ones and catch up with old and new friends. \nEASTERN MEETINGS \nMeet up with us on the first Wednesday of each month\, at a new location each month. We start the meeting at 7:30 PM but come earlier to join us for a bite to eat at 6:00 PM. \nLocation will be updated on this site prior to the meeting.
URL:https://ontariozcar.com/event/ozc-october-2026-eastern-member-meetup/
LOCATION:Ontario
CATEGORIES:Club Meetings
ATTACH;FMTTYPE=image/jpeg:https://ontariozcar.com/wp-content/uploads/2026/01/202601-Eastern-Meeting-02.jpg
ORGANIZER;CN="Lou Pereira":MAILTO:loupaulo21@gmail.com
END:VEVENT
BEGIN:VEVENT
DTSTART;TZID=America/Toronto:20261014T183000
DTEND;TZID=America/Toronto:20261014T210000
DTSTAMP:20260419T195950
CREATED:20260119T011312Z
LAST-MODIFIED:20260119T011312Z
UID:10000190-1792002600-1792011600@ontariozcar.com
SUMMARY:OZC October 2026 Western Member Meetup
DESCRIPTION:Join us at our monthly meetup to hear the latest club news and event updates\, but most importantly to catch up with old and new Z friends.  Meet up with us on the second Wednesday of each month\, at a new location each time to change it up!  New potential members are always welcome to come and see what we’re all about.  Just a fun bunch of car enthusiasts. \nLocation to be announced close to the date…
URL:https://ontariozcar.com/event/ozc-october-2026-western-member-meetup/
LOCATION:Ontario
CATEGORIES:Club Meetings
ATTACH;FMTTYPE=image/jpeg:https://ontariozcar.com/wp-content/uploads/2024/12/Western.jpg
ORGANIZER;CN="Derek Matysik":MAILTO:2016370zgunmetallic@gmail.com
END:VEVENT
BEGIN:VEVENT
DTSTART;TZID=America/Toronto:20261104T183000
DTEND;TZID=America/Toronto:20261104T210000
DTSTAMP:20260419T195950
CREATED:20260125T223608Z
LAST-MODIFIED:20260125T223608Z
UID:10000202-1793817000-1793826000@ontariozcar.com
SUMMARY:OZC November 2026 Eastern Member Meetup
DESCRIPTION:Join us at our monthly meetup to hear the latest club news\, events updates\, both past and upcoming ones and catch up with old and new friends. \nEASTERN MEETINGS \nMeet up with us on the first Wednesday of each month\, at a new location each month. We start the meeting at 7:30 PM but come earlier to join us for a bite to eat at 6:00 PM. \nLocation will be updated on this site prior to the meeting.
URL:https://ontariozcar.com/event/ozc-november-2026-eastern-member-meetup/
LOCATION:Ontario
CATEGORIES:Club Meetings
ATTACH;FMTTYPE=image/jpeg:https://ontariozcar.com/wp-content/uploads/2026/01/202601-Eastern-Meeting-02.jpg
ORGANIZER;CN="Lou Pereira":MAILTO:loupaulo21@gmail.com
END:VEVENT
BEGIN:VEVENT
DTSTART;TZID=America/Toronto:20261111T183000
DTEND;TZID=America/Toronto:20261111T210000
DTSTAMP:20260419T195950
CREATED:20260119T011333Z
LAST-MODIFIED:20260119T011333Z
UID:10000191-1794421800-1794430800@ontariozcar.com
SUMMARY:OZC November 2026 Western Member Meetup
DESCRIPTION:Join us at our monthly meetup to hear the latest club news and event updates\, but most importantly to catch up with old and new Z friends.  Meet up with us on the second Wednesday of each month\, at a new location each time to change it up!  New potential members are always welcome to come and see what we’re all about.  Just a fun bunch of car enthusiasts. \nLocation to be announced close to the date…
URL:https://ontariozcar.com/event/ozc-november-2026-western-member-meetup/
LOCATION:Ontario
CATEGORIES:Club Meetings
ATTACH;FMTTYPE=image/jpeg:https://ontariozcar.com/wp-content/uploads/2024/12/Western.jpg
ORGANIZER;CN="Derek Matysik":MAILTO:2016370zgunmetallic@gmail.com
END:VEVENT
BEGIN:VEVENT
DTSTART;TZID=America/Toronto:20261202T183000
DTEND;TZID=America/Toronto:20261202T210000
DTSTAMP:20260419T195950
CREATED:20260125T223752Z
LAST-MODIFIED:20260125T223752Z
UID:10000203-1796236200-1796245200@ontariozcar.com
SUMMARY:OZC December 2026 Eastern Member Meetup
DESCRIPTION:Join us at our monthly meetup to hear the latest club news\, events updates\, both past and upcoming ones and catch up with old and new friends. \nEASTERN MEETINGS \nMeet up with us on the first Wednesday of each month\, at a new location each month. We start the meeting at 7:30 PM but come earlier to join us for a bite to eat at 6:00 PM. \nLocation will be updated on this site prior to the meeting.
URL:https://ontariozcar.com/event/ozc-december-2026-eastern-member-meetup/
LOCATION:Ontario
CATEGORIES:Club Meetings
ATTACH;FMTTYPE=image/jpeg:https://ontariozcar.com/wp-content/uploads/2026/01/202601-Eastern-Meeting-01.jpg
ORGANIZER;CN="Lou Pereira":MAILTO:loupaulo21@gmail.com
END:VEVENT
BEGIN:VEVENT
DTSTART;TZID=America/Toronto:20261209T183000
DTEND;TZID=America/Toronto:20261209T210000
DTSTAMP:20260419T195950
CREATED:20260119T011406Z
LAST-MODIFIED:20260119T011406Z
UID:10000192-1796841000-1796850000@ontariozcar.com
SUMMARY:OZC December 2026 Western Member Meetup
DESCRIPTION:Join us at our monthly meetup to hear the latest club news and event updates\, but most importantly to catch up with old and new Z friends.  Meet up with us on the second Wednesday of each month\, at a new location each time to change it up!  New potential members are always welcome to come and see what we’re all about.  Just a fun bunch of car enthusiasts. \nLocation to be announced close to the date…
URL:https://ontariozcar.com/event/ozc-december-2026-western-member-meetup/
LOCATION:Ontario
CATEGORIES:Club Meetings
ATTACH;FMTTYPE=image/jpeg:https://ontariozcar.com/wp-content/uploads/2024/12/Western.jpg
ORGANIZER;CN="Derek Matysik":MAILTO:2016370zgunmetallic@gmail.com
END:VEVENT
END:VCALENDAR