BEGIN:VCALENDAR
VERSION:2.0
PRODID:-//Ontario Z-Car Owners Association - ECPv6.15.20//NONSGML v1.0//EN
CALSCALE:GREGORIAN
METHOD:PUBLISH
X-WR-CALNAME:Ontario Z-Car Owners Association
X-ORIGINAL-URL:https://ontariozcar.com
X-WR-CALDESC:Events for Ontario Z-Car Owners Association
REFRESH-INTERVAL;VALUE=DURATION:PT1H
X-Robots-Tag:noindex
X-PUBLISHED-TTL:PT1H
BEGIN:VTIMEZONE
TZID:America/Toronto
BEGIN:DAYLIGHT
TZOFFSETFROM:-0500
TZOFFSETTO:-0400
TZNAME:EDT
DTSTART:20200308T070000
END:DAYLIGHT
BEGIN:STANDARD
TZOFFSETFROM:-0400
TZOFFSETTO:-0500
TZNAME:EST
DTSTART:20201101T060000
END:STANDARD
BEGIN:DAYLIGHT
TZOFFSETFROM:-0500
TZOFFSETTO:-0400
TZNAME:EDT
DTSTART:20210314T070000
END:DAYLIGHT
BEGIN:STANDARD
TZOFFSETFROM:-0400
TZOFFSETTO:-0500
TZNAME:EST
DTSTART:20211107T060000
END:STANDARD
BEGIN:DAYLIGHT
TZOFFSETFROM:-0500
TZOFFSETTO:-0400
TZNAME:EDT
DTSTART:20220313T070000
END:DAYLIGHT
BEGIN:STANDARD
TZOFFSETFROM:-0400
TZOFFSETTO:-0500
TZNAME:EST
DTSTART:20221106T060000
END:STANDARD
BEGIN:DAYLIGHT
TZOFFSETFROM:-0500
TZOFFSETTO:-0400
TZNAME:EDT
DTSTART:20230312T070000
END:DAYLIGHT
BEGIN:STANDARD
TZOFFSETFROM:-0400
TZOFFSETTO:-0500
TZNAME:EST
DTSTART:20231105T060000
END:STANDARD
BEGIN:DAYLIGHT
TZOFFSETFROM:-0500
TZOFFSETTO:-0400
TZNAME:EDT
DTSTART:20240310T070000
END:DAYLIGHT
BEGIN:STANDARD
TZOFFSETFROM:-0400
TZOFFSETTO:-0500
TZNAME:EST
DTSTART:20241103T060000
END:STANDARD
BEGIN:DAYLIGHT
TZOFFSETFROM:-0500
TZOFFSETTO:-0400
TZNAME:EDT
DTSTART:20250309T070000
END:DAYLIGHT
BEGIN:STANDARD
TZOFFSETFROM:-0400
TZOFFSETTO:-0500
TZNAME:EST
DTSTART:20251102T060000
END:STANDARD
END:VTIMEZONE
BEGIN:VEVENT
DTSTART;TZID=America/Toronto:20241227T080000
DTEND;TZID=America/Toronto:20241227T170000
DTSTAMP:20260419T110244
CREATED:20241227T204250Z
LAST-MODIFIED:20241227T204250Z
UID:10000143-1735286400-1735318800@ontariozcar.com
SUMMARY:ZCON 2025 - Nashville\, Tennessee USA
DESCRIPTION:The 38th Annual International Z Car Convention\, ZCON – will be held in Nashville\, Tennessee this year. \nThis annual convention is the largest gathering of z cars in North America and presents all sorts of opportunities to meet fellow enthusiasts and show case your Z cars: \n\nMotorsports: HPDE/Track\, Drifting\, Drag\, and Karting Events\nCar Shows: Concours-style judged show and People’s Choice All Datsun/Nissan/Infiniti Show\nScenic Tours: Guided Fun Runs and Self-guided Scenic Tours\nSocial Events: Hump DaZe Social Event\, Texas Chili Party\, ZCON Movie Night\, Diecast Exchange and Group Banquets\nSpecial Guests: Meet Z Community Icons and Industry Leaders\n\nSee the ZCON.ORG website for more details.
URL:https://ontariozcar.com/event/zcon-2025-nashville-tennessee-usa/
LOCATION:Mariott Cool Springs\, 700 Cool Springs Blvd\, Franklin\, TN\, 37067\, United States
CATEGORIES:ZCON
ATTACH;FMTTYPE=image/jpeg:https://ontariozcar.com/wp-content/uploads/2024/12/ZCON.jpg
ORGANIZER;CN="ZCON":MAILTO:info@zcon.org
END:VEVENT
BEGIN:VEVENT
DTSTART;VALUE=DATE:20240909
DTEND;VALUE=DATE:20240915
DTSTAMP:20260419T110244
CREATED:20240114T035440Z
LAST-MODIFIED:20240114T035440Z
UID:10000115-1725840000-1726358399@ontariozcar.com
SUMMARY:ZCON 2024 - Tampa\, Florida USA
DESCRIPTION:The 37th Annual International Z Car Convention\, ZCON – will be held in Tampa\, Florida this year. \nThis annual convention is the largest gathering of z cars in North America and presents all sorts of opportunities to meet fellow enthusiasts and show case your Z cars: \n\nMotorsports: HPDE/Track\, Drifting\, Drag\, and Karting Events\nCar Shows: Concours-style judged show and People’s Choice All Datsun/Nissan/Infiniti Show\nScenic Tours: Guided Fun Runs and Self-guided Scenic Tours\nSocial Events: Hump DaZe Social Event\, Texas Chili Party\, ZCON Movie Night\, Diecast Exchange and Group Banquets\nSpecial Guests: Meet Z Community Icons and Industry Leaders\n\nSee the ZCON.ORG website for more details.
URL:https://ontariozcar.com/event/zcon-2024-tampa-florida-usa/
LOCATION:Embassy Suites Tampa\, 3705 Spectrum Blvd\, Tampa\, FL\, 33612\, United States
CATEGORIES:ZCON
ATTACH;FMTTYPE=image/jpeg:https://ontariozcar.com/wp-content/uploads/2024/01/ZCON2024.jpg
ORGANIZER;CN="ZCON":MAILTO:info@zcon.org
END:VEVENT
BEGIN:VEVENT
DTSTART;VALUE=DATE:20210816
DTEND;VALUE=DATE:20210823
DTSTAMP:20260419T110244
CREATED:20210103T195327Z
LAST-MODIFIED:20210103T195327Z
UID:10000049-1629072000-1629676799@ontariozcar.com
SUMMARY:2021 34th Annual ZCON in Colorado Springs
DESCRIPTION:ZCCA’s ZCON week is packed with regional activities\, car shows and motorsports activities – all in celebration of the Z car! \nThis year’s convention is being hosted by the Z Car Club of Colorado and being held in Colorado Springs.  It includes:\n– Opening ceremonies & Texas Chili Party\n– Group drive to Pikes Peak\n– ZCCA judged car show competition\n– Mid week social evening\n– ZCON Track Day and Group Photo at High Plains Raceway\n– Denver Downtown InvaZion\n– Time attack\, drag\, parade laps and aerial photo at Pikes Peak International Raceway\n– Special guests evening “tech talk”\n– People’s choice car show\n– Awards banquet and closing ceremonies\n– Lots of socializing and hanging out with our like-minded Z car friends \n 
URL:https://ontariozcar.com/event/2021-34th-annual-zcon-in-colorado-springs/
LOCATION:Colorado Springs\, Colorado Springs\, CO\, United States
CATEGORIES:Car Shows,Car Tours,Lapping Day,ZCON
ATTACH;FMTTYPE=image/jpeg:https://ontariozcar.com/wp-content/uploads/2021/01/ZCON-2021-Small.jpg
ORGANIZER;CN="ZCON Organizer":MAILTO:info@zcon.org
END:VEVENT
END:VCALENDAR