BEGIN:VCALENDAR
VERSION:2.0
PRODID:-//Ontario Z-Car Owners Association - ECPv6.15.20//NONSGML v1.0//EN
CALSCALE:GREGORIAN
METHOD:PUBLISH
X-ORIGINAL-URL:https://ontariozcar.com
X-WR-CALDESC:Events for Ontario Z-Car Owners Association
REFRESH-INTERVAL;VALUE=DURATION:PT1H
X-Robots-Tag:noindex
X-PUBLISHED-TTL:PT1H
BEGIN:VTIMEZONE
TZID:America/Toronto
BEGIN:DAYLIGHT
TZOFFSETFROM:-0500
TZOFFSETTO:-0400
TZNAME:EDT
DTSTART:20240310T070000
END:DAYLIGHT
BEGIN:STANDARD
TZOFFSETFROM:-0400
TZOFFSETTO:-0500
TZNAME:EST
DTSTART:20241103T060000
END:STANDARD
BEGIN:DAYLIGHT
TZOFFSETFROM:-0500
TZOFFSETTO:-0400
TZNAME:EDT
DTSTART:20250309T070000
END:DAYLIGHT
BEGIN:STANDARD
TZOFFSETFROM:-0400
TZOFFSETTO:-0500
TZNAME:EST
DTSTART:20251102T060000
END:STANDARD
BEGIN:DAYLIGHT
TZOFFSETFROM:-0500
TZOFFSETTO:-0400
TZNAME:EDT
DTSTART:20260308T070000
END:DAYLIGHT
BEGIN:STANDARD
TZOFFSETFROM:-0400
TZOFFSETTO:-0500
TZNAME:EST
DTSTART:20261101T060000
END:STANDARD
END:VTIMEZONE
BEGIN:VEVENT
DTSTART;TZID=America/Toronto:20250921T100000
DTEND;TZID=America/Toronto:20250921T140000
DTSTAMP:20260419T195822
CREATED:20250821T182044Z
LAST-MODIFIED:20250821T182044Z
UID:10000175-1758448800-1758463200@ontariozcar.com
SUMMARY:OZC Scarborough Cliffcrest Late Summer Car Show & BBQ
DESCRIPTION:OZC Members are invited to the Scarborough Cliffcrest Late Summer Car Show & BBQ.    This event is being held at the private residence of Glenn & Carol Walker – address to be provided upon registration. \nOnly 15 cars can fit in the driveway!  So\, we’ll need you to pre-register by reaching out to glenn.walker@bell.net to RSVP.  (Please provide your name\, phone number and email\, and how many people will be with you.) \n\nA great opportunity to take a drive and socialize with your Favorite OZC friends\nOpen to club members or prospective club members with Datsun/Nissans\nRSVP to reserve your spot by September 17th – please provide your name\, phone number\, and email address\nThere will be a waitlist\, so if you have registered\, and then can’t make it – please let Glenn know!\nComplimentary hamburgers (beef\, chicken\, or veggie)\, coleslaw\, salad\, deserts\, and non-alcoholic beverages will be supplied\nThere might be some fun awards!\nIf you need to leave before 2pm\, let Glenn know and you will be parked accordingly.\n\n  \nOZC offers their sincere thanks to Glenn & Carol for offering to host this last event before the start of Fall. \nIf you haven’t had a chance to renew your membership yet – you can do so here:   https://ontariozcar.com/membership/ \nPlease reach out to glenn.walker@bell.net if you have any questions about this event.
URL:https://ontariozcar.com/event/ozc-scarborough-cliffcrest-late-summer-car-show-bbq/
LOCATION:Scarborough\, Scarborough\, Ontario\, Canada
CATEGORIES:Car Shows,Club BBQ
ATTACH;FMTTYPE=image/png:https://ontariozcar.com/wp-content/uploads/2025/08/Scarborough-Clifcrest.png
ORGANIZER;CN="Glenn Walker":MAILTO:glenn.walker@bell.net
END:VEVENT
END:VCALENDAR