BEGIN:VCALENDAR
VERSION:2.0
PRODID:-//Ontario Z-Car Owners Association - ECPv6.15.20//NONSGML v1.0//EN
CALSCALE:GREGORIAN
METHOD:PUBLISH
X-ORIGINAL-URL:https://ontariozcar.com
X-WR-CALDESC:Events for Ontario Z-Car Owners Association
REFRESH-INTERVAL;VALUE=DURATION:PT1H
X-Robots-Tag:noindex
X-PUBLISHED-TTL:PT1H
BEGIN:VTIMEZONE
TZID:America/Toronto
BEGIN:DAYLIGHT
TZOFFSETFROM:-0500
TZOFFSETTO:-0400
TZNAME:EDT
DTSTART:20240310T070000
END:DAYLIGHT
BEGIN:STANDARD
TZOFFSETFROM:-0400
TZOFFSETTO:-0500
TZNAME:EST
DTSTART:20241103T060000
END:STANDARD
BEGIN:DAYLIGHT
TZOFFSETFROM:-0500
TZOFFSETTO:-0400
TZNAME:EDT
DTSTART:20250309T070000
END:DAYLIGHT
BEGIN:STANDARD
TZOFFSETFROM:-0400
TZOFFSETTO:-0500
TZNAME:EST
DTSTART:20251102T060000
END:STANDARD
BEGIN:DAYLIGHT
TZOFFSETFROM:-0500
TZOFFSETTO:-0400
TZNAME:EDT
DTSTART:20260308T070000
END:DAYLIGHT
BEGIN:STANDARD
TZOFFSETFROM:-0400
TZOFFSETTO:-0500
TZNAME:EST
DTSTART:20261101T060000
END:STANDARD
END:VTIMEZONE
BEGIN:VEVENT
DTSTART;TZID=America/Toronto:20250928T110000
DTEND;TZID=America/Toronto:20250928T170000
DTSTAMP:20260419T230354
CREATED:20250905T033345Z
LAST-MODIFIED:20250905T033345Z
UID:10000177-1759057200-1759078800@ontariozcar.com
SUMMARY:OZC at The Distinguished Gentleman's Drive 2025
DESCRIPTION:We invite you to join an extraordinary journey blending style\, classic cars\, and a noble mission with the Distinguished Gentleman’s Drive. This global event brings together passionate drivers and vintage vehicle enthusiasts to celebrate classic and vintage cars while raising vital funds for Movember. Together\, we can support men’s health\, including prostate cancer research and suicide prevention\, through this meaningful initiative. \nThe event welcomes all pre-1986 cars\, including run-on production. Nissan/Datsun models that meet these criteria include iconic classics like the 240Z\, 260Z\, and 280Z\, the 280ZX\, the 300ZX (1984-89)\, the Datsun 510\, and Datsun 720 pickups. Come show the American and European car owners how Japan changed the game! \nJoin us for a day to cruise for a cause in sartorial style. Don’t miss this chance to make a meaningful impact on men’s health while celebrating classic cars and community. Polish that chrome\, dress your best\, and be part of this unforgettable event! \nWe’ll gather in the charming town of Bolton\, engines purring and ties neatly knotted\, before tracing the graceful curves of the Forks of the Credit River—canopied bends\, limestone edges\, and postcard bridges. We then dip into the hamlet of Norval\, skirting its heritage streets and riverside views\, and sweep across big-sky countryside toward Speyside. We’ll regroup in the village of Haltonville before continuing to Moffat\, where the roads ahead unfurl beneath a gorgeous forested canopy all the way toward Killbride. We finish with a refined glide home along the newly widened Britannia Road—perfect for polished chrome\, shared smiles\, and a thoroughly dapper finish. \nMore info can be found at https://www.gentlemansdrive.com/drives/canada/toronto
URL:https://ontariozcar.com/event/ozc-at-the-distinguished-gentlemans-drive-2025/
LOCATION:Courtyards Lower Parking\, 45 Willow St\, Bolton\, Ontario\, L7E 1C4\, Canada
CATEGORIES:Car Tours
ATTACH;FMTTYPE=image/jpeg:https://ontariozcar.com/wp-content/uploads/2025/09/DGD.jpg
END:VEVENT
END:VCALENDAR