BEGIN:VCALENDAR
VERSION:2.0
PRODID:-//Ontario Z-Car Owners Association - ECPv6.15.20//NONSGML v1.0//EN
CALSCALE:GREGORIAN
METHOD:PUBLISH
X-ORIGINAL-URL:https://ontariozcar.com
X-WR-CALDESC:Events for Ontario Z-Car Owners Association
REFRESH-INTERVAL;VALUE=DURATION:PT1H
X-Robots-Tag:noindex
X-PUBLISHED-TTL:PT1H
BEGIN:VTIMEZONE
TZID:America/Toronto
BEGIN:DAYLIGHT
TZOFFSETFROM:-0500
TZOFFSETTO:-0400
TZNAME:EDT
DTSTART:20200308T070000
END:DAYLIGHT
BEGIN:STANDARD
TZOFFSETFROM:-0400
TZOFFSETTO:-0500
TZNAME:EST
DTSTART:20201101T060000
END:STANDARD
BEGIN:DAYLIGHT
TZOFFSETFROM:-0500
TZOFFSETTO:-0400
TZNAME:EDT
DTSTART:20210314T070000
END:DAYLIGHT
BEGIN:STANDARD
TZOFFSETFROM:-0400
TZOFFSETTO:-0500
TZNAME:EST
DTSTART:20211107T060000
END:STANDARD
BEGIN:DAYLIGHT
TZOFFSETFROM:-0500
TZOFFSETTO:-0400
TZNAME:EDT
DTSTART:20220313T070000
END:DAYLIGHT
BEGIN:STANDARD
TZOFFSETFROM:-0400
TZOFFSETTO:-0500
TZNAME:EST
DTSTART:20221106T060000
END:STANDARD
END:VTIMEZONE
BEGIN:VTIMEZONE
TZID:America/Halifax
BEGIN:DAYLIGHT
TZOFFSETFROM:-0400
TZOFFSETTO:-0300
TZNAME:ADT
DTSTART:20190310T060000
END:DAYLIGHT
BEGIN:STANDARD
TZOFFSETFROM:-0300
TZOFFSETTO:-0400
TZNAME:AST
DTSTART:20191103T050000
END:STANDARD
BEGIN:DAYLIGHT
TZOFFSETFROM:-0400
TZOFFSETTO:-0300
TZNAME:ADT
DTSTART:20200308T060000
END:DAYLIGHT
BEGIN:STANDARD
TZOFFSETFROM:-0300
TZOFFSETTO:-0400
TZNAME:AST
DTSTART:20201101T050000
END:STANDARD
BEGIN:DAYLIGHT
TZOFFSETFROM:-0400
TZOFFSETTO:-0300
TZNAME:ADT
DTSTART:20210314T060000
END:DAYLIGHT
BEGIN:STANDARD
TZOFFSETFROM:-0300
TZOFFSETTO:-0400
TZNAME:AST
DTSTART:20211107T050000
END:STANDARD
END:VTIMEZONE
BEGIN:VEVENT
DTSTART;VALUE=DATE:20210816
DTEND;VALUE=DATE:20210823
DTSTAMP:20260419T151033
CREATED:20210103T195327Z
LAST-MODIFIED:20210103T195327Z
UID:10000049-1629072000-1629676799@ontariozcar.com
SUMMARY:2021 34th Annual ZCON in Colorado Springs
DESCRIPTION:ZCCA’s ZCON week is packed with regional activities\, car shows and motorsports activities – all in celebration of the Z car! \nThis year’s convention is being hosted by the Z Car Club of Colorado and being held in Colorado Springs.  It includes:\n– Opening ceremonies & Texas Chili Party\n– Group drive to Pikes Peak\n– ZCCA judged car show competition\n– Mid week social evening\n– ZCON Track Day and Group Photo at High Plains Raceway\n– Denver Downtown InvaZion\n– Time attack\, drag\, parade laps and aerial photo at Pikes Peak International Raceway\n– Special guests evening “tech talk”\n– People’s choice car show\n– Awards banquet and closing ceremonies\n– Lots of socializing and hanging out with our like-minded Z car friends \n 
URL:https://ontariozcar.com/event/2021-34th-annual-zcon-in-colorado-springs/
LOCATION:Colorado Springs\, Colorado Springs\, CO\, United States
CATEGORIES:Car Shows,Car Tours,Lapping Day,ZCON
ATTACH;FMTTYPE=image/jpeg:https://ontariozcar.com/wp-content/uploads/2021/01/ZCON-2021-Small.jpg
ORGANIZER;CN="ZCON Organizer":MAILTO:info@zcon.org
END:VEVENT
BEGIN:VEVENT
DTSTART;TZID=America/Toronto:20210416T200000
DTEND;TZID=America/Toronto:20210416T220000
DTSTAMP:20260419T151033
CREATED:20210412T203455Z
LAST-MODIFIED:20210412T203455Z
UID:10000056-1618603200-1618610400@ontariozcar.com
SUMMARY:Spring 2021 FotoZed Awards Night (co-hosted with OZC & ZCCQ)
DESCRIPTION:With over 300 fantastic photos & stories submitted to our Spring 2021 FotoZed online car show – it’s going to be almost impossible to pick the winners! \nBut our very talented and experienced panel of judges has done the job.  And we’re very excited to announce the winners! \nWe’d love to invite all the OZC and ZCCQ members to join us on Friday April 16th at 8pm EDT (Saturday April 17th at 10am AEST) as we announce the winners of our first ever online car show – and our first ever collaboration event with OZC & ZCCQ. \nOZC and ZCCQ members should have received the Zoom link to the event – contact your club membership if you need assistance (info@ontariozcar.com for OZC).
URL:https://ontariozcar.com/event/spring-2021-fotozed-awards-night-co-hosted-with-ozc-zccq/
LOCATION:ZOOM
CATEGORIES:Car Shows
ATTACH;FMTTYPE=image/jpeg:https://ontariozcar.com/wp-content/uploads/2021/04/7029-ColinEssery1975Datsun260Z.jpg
ORGANIZER;CN="Diane Dale":MAILTO:info@ontariozcar.com
END:VEVENT
BEGIN:VEVENT
DTSTART;TZID=America/Toronto:20210406T080000
DTEND;TZID=America/Toronto:20210414T235900
DTSTAMP:20260419T151033
CREATED:20210406T192643Z
LAST-MODIFIED:20210406T211433Z
UID:10000055-1617696000-1618444740@ontariozcar.com
SUMMARY:2021 Spring FotoZed PEOPLE'S CHOICE - Vote until April 14th 11:59pm EDT
DESCRIPTION:Voting is NOW ON for the FotoZed PEOPLE’S CHOICE award. \nReview all the photos and stories submitted in our Spring FotoZed online virtual car show and pick your overall favourite! \nEntries can be viewed and voted on here: https://ontariozcar.com/fotozed-2021-spring/ 
URL:https://ontariozcar.com/event/2021-spring-fotozed-peoples-choice-vote-until-april-14th-1159pm-edt/
LOCATION:Ontario Z Car Website
CATEGORIES:Car Shows
ATTACH;FMTTYPE=image/jpeg:https://ontariozcar.com/wp-content/uploads/2020/06/LDDZCON-0215-scaled.jpg
ORGANIZER;CN="Diane Dale":MAILTO:info@ontariozcar.com
END:VEVENT
BEGIN:VEVENT
DTSTART;VALUE=DATE:20210323
DTEND;VALUE=DATE:20210406
DTSTAMP:20260419T151033
CREATED:20210314T180442Z
LAST-MODIFIED:20210321T114839Z
UID:10000054-1616457600-1617667199@ontariozcar.com
SUMMARY:2021 FotoZed Online Car Show
DESCRIPTION:Get your photos ready! \nFrom the frozen north to the sizzlin south… the Ontario Z-Car Owners Association in Canada and the Z Car Club of Queensland in Australia are co-hosting an online car show for their members and entry is open March 23rd to April 5th\, 2021. \nFotoZed is open to all current members of OZC or ZCCQ with any make & model of Datsun/Nissan. There are 7 judged categories that you can enter\, and an overall people’s choice award. The prizes are simply bragging rights. The benefit is enjoyment of so many amazing photographs! Our top winners will be featured on our website\, social media and in our quarterly publication of Zedline. \nEntry opens March 23rd\n– If you are a current OZC or ZCCQ member\, you will receive a link to the entry form via club email\n– With the entry link you’ll be able to submit 1 entry for each category (for every Datsun/Nissan car you own)\n– If you haven’t received your entry link by March 24th – contact us at info@ontariozcar.com to inquire \nMore information is available in the event posting.
URL:https://ontariozcar.com/event/2021-fotozed-online-car-show/
LOCATION:Ontario Z Car Website
CATEGORIES:Car Shows
ATTACH;FMTTYPE=image/jpeg:https://ontariozcar.com/wp-content/uploads/2021/03/Datsun240Zs-scaled.jpg
ORGANIZER;CN="Diane Dale":MAILTO:info@ontariozcar.com
END:VEVENT
BEGIN:VEVENT
DTSTART;TZID=America/Halifax:20200816T090000
DTEND;TZID=America/Halifax:20200816T150000
DTSTAMP:20260419T151033
CREATED:20200625T211909Z
LAST-MODIFIED:20200814T131910Z
UID:10000038-1597568400-1597590000@ontariozcar.com
SUMMARY:CANCELLED - OZC 26th Annual ZedFest
DESCRIPTION:UNFORTUNATELY DUE TO COVID-19 WE HAVE HAD TO CANCEL THIS EVENT FOR 2020.    PLEASE WATCH OUR WEBSITE FOR UPDATES FOR THE REMAINING EVENTS FOR THIS YEAR AND NEXT YEAR’S Z-FEST CELEBRATION. \nIt’s the 26th annual Ontario Z Car Z-Fest celebration!!! \nTo be held on Sunday August 16\, 2020 at the Canadian Warplane Heritage Museum\, gates open at 9:00am – spectating\, judging\, lounging\, socializing\, eating until 1pm\, then the awards and prize give-aways! \nPre-registration to enter your car in the awards before August 14 and save money. \nRegistration form will be available soon\, please contact howieyoshida@gmail.com \nAwards will be given for all model categories as well as: \n\n50/50 Cash Draw\nFree Door Prizes\nFood &  Refreshments will be available\nDJ & Oldies Music\nOZC Club Merchandise\n\nPictures from last year’s Z-Fest are available on FaceBook.
URL:https://ontariozcar.com/event/ozc-26th-annual-zedfest/
LOCATION:Canadian Warplane Heritage Museum\, 9280 Airport Rd\, Mount Hope\, Ontario\, L0R 1W0\, Canada
CATEGORIES:Car Shows
ATTACH;FMTTYPE=image/jpeg:https://ontariozcar.com/wp-content/uploads/2020/02/LDD_3463-scaled.jpg
ORGANIZER;CN="Howie Yoshida":MAILTO:info@ontariozcar.com
END:VEVENT
END:VCALENDAR