BEGIN:VCALENDAR
VERSION:2.0
PRODID:-//Ontario Z-Car Owners Association - ECPv6.15.20//NONSGML v1.0//EN
CALSCALE:GREGORIAN
METHOD:PUBLISH
X-WR-CALNAME:Ontario Z-Car Owners Association
X-ORIGINAL-URL:https://ontariozcar.com
X-WR-CALDESC:Events for Ontario Z-Car Owners Association
REFRESH-INTERVAL;VALUE=DURATION:PT1H
X-Robots-Tag:noindex
X-PUBLISHED-TTL:PT1H
BEGIN:VTIMEZONE
TZID:America/Toronto
BEGIN:DAYLIGHT
TZOFFSETFROM:-0500
TZOFFSETTO:-0400
TZNAME:EDT
DTSTART:20250309T070000
END:DAYLIGHT
BEGIN:STANDARD
TZOFFSETFROM:-0400
TZOFFSETTO:-0500
TZNAME:EST
DTSTART:20251102T060000
END:STANDARD
BEGIN:DAYLIGHT
TZOFFSETFROM:-0500
TZOFFSETTO:-0400
TZNAME:EDT
DTSTART:20260308T070000
END:DAYLIGHT
BEGIN:STANDARD
TZOFFSETFROM:-0400
TZOFFSETTO:-0500
TZNAME:EST
DTSTART:20261101T060000
END:STANDARD
BEGIN:DAYLIGHT
TZOFFSETFROM:-0500
TZOFFSETTO:-0400
TZNAME:EDT
DTSTART:20270314T070000
END:DAYLIGHT
BEGIN:STANDARD
TZOFFSETFROM:-0400
TZOFFSETTO:-0500
TZNAME:EST
DTSTART:20271107T060000
END:STANDARD
END:VTIMEZONE
BEGIN:VEVENT
DTSTART;TZID=America/Toronto:20260401T183000
DTEND;TZID=America/Toronto:20260401T210000
DTSTAMP:20260419T160939
CREATED:20260125T222604Z
LAST-MODIFIED:20260327T202820Z
UID:10000195-1775068200-1775077200@ontariozcar.com
SUMMARY:OZC April 2026 Eastern Member Meetup
DESCRIPTION:Join us at our monthly meetup to hear the latest club news\, events updates\, both past and upcoming ones and catch up with old and new friends. \nEASTERN MEETINGS \nMeet up with us on the first Wednesday of each month\, at a new location each month. We start the meeting at 7:30 PM but come earlier to join us for a bite to eat at 6:00 PM. \nOZC is returning to Boston Pizza – Etobicoke  for April 1 2026  Eastern Chapter meeting. Join us at our monthly meetup to hear the latest club news\, events updates\, both past and upcoming ones and catch up with old and new friends. \nWe start the meeting at 7:30 PM but come earlier to join us for a bite to eat at 6:00 PM.
URL:https://ontariozcar.com/event/ozc-april-2026-eastern-member-meetup/
LOCATION:Boston Pizza – Etobicoke\, 5 Carlson Court\, Etobicoke\, Ontario\, M9W 6A2\, Canada
CATEGORIES:Club Meetings
ATTACH;FMTTYPE=image/jpeg:https://ontariozcar.com/wp-content/uploads/2026/01/202601-Eastern-Meeting-02.jpg
ORGANIZER;CN="Lou Pereira":MAILTO:loupaulo21@gmail.com
END:VEVENT
END:VCALENDAR