BEGIN:VCALENDAR
VERSION:2.0
PRODID:-//Ontario Z-Car Owners Association - ECPv6.15.20//NONSGML v1.0//EN
CALSCALE:GREGORIAN
METHOD:PUBLISH
X-ORIGINAL-URL:https://ontariozcar.com
X-WR-CALDESC:Events for Ontario Z-Car Owners Association
REFRESH-INTERVAL;VALUE=DURATION:PT1H
X-Robots-Tag:noindex
X-PUBLISHED-TTL:PT1H
BEGIN:VTIMEZONE
TZID:America/Toronto
BEGIN:DAYLIGHT
TZOFFSETFROM:-0500
TZOFFSETTO:-0400
TZNAME:EDT
DTSTART:20250309T070000
END:DAYLIGHT
BEGIN:STANDARD
TZOFFSETFROM:-0400
TZOFFSETTO:-0500
TZNAME:EST
DTSTART:20251102T060000
END:STANDARD
BEGIN:DAYLIGHT
TZOFFSETFROM:-0500
TZOFFSETTO:-0400
TZNAME:EDT
DTSTART:20260308T070000
END:DAYLIGHT
BEGIN:STANDARD
TZOFFSETFROM:-0400
TZOFFSETTO:-0500
TZNAME:EST
DTSTART:20261101T060000
END:STANDARD
BEGIN:DAYLIGHT
TZOFFSETFROM:-0500
TZOFFSETTO:-0400
TZNAME:EDT
DTSTART:20270314T070000
END:DAYLIGHT
BEGIN:STANDARD
TZOFFSETFROM:-0400
TZOFFSETTO:-0500
TZNAME:EST
DTSTART:20271107T060000
END:STANDARD
END:VTIMEZONE
BEGIN:VEVENT
DTSTART;TZID=America/Toronto:20260211T183000
DTEND;TZID=America/Toronto:20260211T210000
DTSTAMP:20260419T195259
CREATED:20260119T010821Z
LAST-MODIFIED:20260129T044237Z
UID:10000182-1770834600-1770843600@ontariozcar.com
SUMMARY:OZC February 2026 Western Member Meetup
DESCRIPTION:Join us at our monthly meetup to hear the latest club news and event updates\, but most importantly to catch up with old and new Z friends.  Meet up with us on the second Wednesday of each month\, at a new location each time to change it up!  New pot \nWESTERN MEETING\, WEDNESDAY FEBRUARY 11 \nJoin us at our monthly meetup to hear the latest club news and event updates\, but most importantly to catch up with old and new Z friends.  Meet up with us on the second Wednesday of each month\, at a different location to change it up!  New potential members are always welcome to come and see what we’re all about.  Just a fun bunch of car enthusiasts. \nACTUAL DINNER & MEETING AT PIPER ARMS BRANTFORD at 299 Wayne Gretzky Pkwy Unit #7\, Brantford\, ON N3R 8A5   \nWe have a registration with a guestimate on attendees – if you can please email Derek Matysik as the coordinator if you are planning to attend at least 1 DAY PRIOR so he can ensure enough space for everyone.  We also have the large private room off to the side so we can have good and productive car club conversations. \n*** LOTS OF SPECIALS ***  GREAT PRICES\, GREAT FOOD. \nMEETING to include discussions on all things NISSAN / DATSUN… open to suggestions on all car topics always!  Hoping to do a NISSAN / DATSUN TRIVIA CONTEST… \nIf you get to the restaurant early\, just tell them you’re with the ONTARIO Z CAR CLUB… or a potential new member! \nWe start the meeting at 7:30 PM but come earlier to join us for a bite to eat at 6:00 PM (approximately)… always good food & good times! \nFor those who’d like more information\, please reach out to Derek Matysik directly as the Western Chapter VP.
URL:https://ontariozcar.com/event/ozc-february-2026-western-member-meetup/
LOCATION:Piper Arms Pub – Brantford\, 299 Wayne Gretzky Pkwy\, Unit #7\, Brantford\, Ontario\, N3R 8A5\, Canada
CATEGORIES:Club Meetings
ATTACH;FMTTYPE=image/jpeg:https://ontariozcar.com/wp-content/uploads/2024/12/Western.jpg
ORGANIZER;CN="Derek Matysik":MAILTO:2016370zgunmetallic@gmail.com
END:VEVENT
END:VCALENDAR